BEGIN:VCALENDAR
VERSION:2.0
PRODID:-//Tukios.com/
BEGIN:VEVENT
UID:2785c2f7-e364-4eb3-a45c-e0e34ba6b1ab@www.jenningsfarley.com
DTSTAMP:20260423T222016Z
DTSTART:20260501T150000Z
DTEND:20260501T160000Z
SUMMARY:Graveside Service
DESCRIPTION:
URL:https://www.jenningsfarley.com/obituaries/evelyn-samson
LOCATION: 15789 South St  Brownsville  43721
GEO:39.9455069;-82.253268
END:VEVENT
END:VCALENDAR