BEGIN:VCALENDAR
VERSION:2.0
PRODID:-//Tukios.com/
BEGIN:VEVENT
UID:a6289fac-8a6e-4acd-9afb-669eab69a876@www.jenningsfarley.com
DTSTAMP:20260423T221523Z
DTSTART:20260430T200000Z
DTEND:20260430T220000Z
SUMMARY:Visitation
DESCRIPTION:
URL:https://www.jenningsfarley.com/obituaries/evelyn-samson
LOCATION: 5591 US-68 S  West Liberty OH 43357
GEO:40.2828326;-83.7605309
END:VEVENT
END:VCALENDAR